BEGIN:VCALENDAR
VERSION:2.0
PRODID:-//ExhibitionMatches.com//NONSGML v1.0//EN
BEGIN:VEVENT
UID=EE3A01E4-93AC-EC18-DC3C4196B7DF33B5
DTSTAMP=20260421T140231Z
DTSTART;VALUE=DATE:20260612
DTEND;VALUE=DATE:20260613
SUMMARY:Big Money Blacklight Open
LOCATION:Camp Jordan, 323 camp jordan rd, East Ridge, TN, 37412
DESCRIPTION:View full event details: https://wrestlingtournaments.org/view.cfm?ID=106958

URL;VALUE=URI:https://wrestlingtournaments.org/view.cfm?ID=106958
END:VEVENT
END:VCALENDAR