BEGIN:VCALENDAR
VERSION:2.0
PRODID:-//ExhibitionMatches.com//NONSGML v1.0//EN
BEGIN:VEVENT
UID=EE3885E7-CC8B-CD3F-7D59CAD281991C75
DTSTAMP=20260421T140221Z
DTSTART;VALUE=DATE:20260425
DTEND;VALUE=DATE:20260426
SUMMARY:MTTC - Greco Open
LOCATION:Siegel High School, 3300 Siegel Road, Murfreesboro, TN, 37129
DESCRIPTION:View full event details: https://wrestlingtournaments.org/view.cfm?ID=107144

URL;VALUE=URI:https://wrestlingtournaments.org/view.cfm?ID=107144
END:VEVENT
END:VCALENDAR