BEGIN:VCALENDAR
VERSION:2.0
PRODID:-//ExhibitionMatches.com//NONSGML v1.0//EN
BEGIN:VEVENT
UID=EE2F13D3-CBD6-999C-40297EFBF77EE3EB
DTSTAMP=20260421T140119Z
DTSTART;VALUE=DATE:20260509
DTEND;VALUE=DATE:20260510
SUMMARY:TNUSAW Freestyle and Greco-Roman State Championships 2026
LOCATION:Tennessee State University, 3500 John A Merritt Blvd, Nashville, TN, 37209
DESCRIPTION:View full event details: https://wrestlingtournaments.org/view.cfm?ID=107183
Contact: Michael Hatcher coachhatcher@gmail.com
URL;VALUE=URI:https://wrestlingtournaments.org/view.cfm?ID=107183
END:VEVENT
END:VCALENDAR